Workbook

Sheet Anmeldung
A1: Teilnehmereinmeldung Landesjugendleistungsbewerb 2026
A5: Startnummer
A7: Kategorie | F7: Bundesland | H7: Kärnten
A9: Gruppenname | F9: Bezirk
E11: Besitzt FJLA * B S | G11: Geburtsdatum | K11: Reserve | L11: Teilnahme
B12: Passnummer | C12: Name | D12: Vorname | G12: Tag | H12: Mon | I12: Jahr | J12: Alter | K12: ja/nein | L12: Einzelbewerb
A13: Teilnehmer 1 | J13: =IF(ISBLANK(I13),,IF(K13="ja","R "&(N13+O13)&" R",N13+O13)) -> 0 | K13: 0 | N13: =IF(ISBLANK(I13),,Rechenhilfe!E$2-I13) -> 0 | O13: =IF(OR(H13>Rechenhilfe!D$2,AND(H13=Rechenhilfe!D$2,G13>Rechenhilfe!C$2)),-1,) -> 0
A14: Teilnehmer 2 | J14: =IF(ISBLANK(I14),,IF(K14="ja","R "&(N14+O14)&" R",N14+O14)) -> 0 | K14: 0 | N14: =IF(ISBLANK(I14),,Rechenhilfe!E$2-I14) -> 0 | O14: =IF(OR(H14>Rechenhilfe!D$2,AND(H14=Rechenhilfe!D$2,G14>Rechenhilfe!C$2)),-1,) -> 0
A15: Teilnehmer 3 | J15: =IF(ISBLANK(I15),,IF(K15="ja","R "&(N15+O15)&" R",N15+O15)) -> 0 | N15: =IF(ISBLANK(I15),,Rechenhilfe!E$2-I15) -> 0 | O15: =IF(OR(H15>Rechenhilfe!D$2,AND(H15=Rechenhilfe!D$2,G15>Rechenhilfe!C$2)),-1,) -> 0
A16: Teilnehmer 4 | J16: =IF(ISBLANK(I16),,IF(K16="ja","R "&(N16+O16)&" R",N16+O16)) -> 0 | K16: 0 | N16: =IF(ISBLANK(I16),,Rechenhilfe!E$2-I16) -> 0 | O16: =IF(OR(H16>Rechenhilfe!D$2,AND(H16=Rechenhilfe!D$2,G16>Rechenhilfe!C$2)),-1,) -> 0
A17: Teilnehmer 5 | J17: =IF(ISBLANK(I17),,IF(K17="ja","R "&(N17+O17)&" R",N17+O17)) -> 0 | K17: 0 | N17: =IF(ISBLANK(I17),,Rechenhilfe!E$2-I17) -> 0 | O17: =IF(OR(H17>Rechenhilfe!D$2,AND(H17=Rechenhilfe!D$2,G17>Rechenhilfe!C$2)),-1,) -> 0
A18: Teilnehmer 6 | J18: =IF(ISBLANK(I18),,IF(K18="ja","R "&(N18+O18)&" R",N18+O18)) -> 0 | N18: =IF(ISBLANK(I18),,Rechenhilfe!E$2-I18) -> 0 | O18: =IF(OR(H18>Rechenhilfe!D$2,AND(H18=Rechenhilfe!D$2,G18>Rechenhilfe!C$2)),-1,) -> 0
A19: Teilnehmer 7 | J19: =IF(ISBLANK(I19),,IF(K19="ja","R "&(N19+O19)&" R",N19+O19)) -> 0 | N19: =IF(ISBLANK(I19),,Rechenhilfe!E$2-I19) -> 0 | O19: =IF(OR(H19>Rechenhilfe!D$2,AND(H19=Rechenhilfe!D$2,G19>Rechenhilfe!C$2)),-1,) -> 0
A20: Teilnehmer 8 | J20: =IF(ISBLANK(I20),,IF(K20="ja","R "&(N20+O20)&" R",N20+O20)) -> 0 | N20: =IF(ISBLANK(I20),,Rechenhilfe!E$2-I20) -> 0 | O20: =IF(OR(H20>Rechenhilfe!D$2,AND(H20=Rechenhilfe!D$2,G20>Rechenhilfe!C$2)),-1,) -> 0
A21: Teilnehmer 9 | J21: =IF(ISBLANK(I21),,IF(K21="ja","R "&(N21+O21)&" R",N21+O21)) -> 0 | N21: =IF(ISBLANK(I21),,Rechenhilfe!E$2-I21) -> 0 | O21: =IF(OR(H21>Rechenhilfe!D$2,AND(H21=Rechenhilfe!D$2,G21>Rechenhilfe!C$2)),-1,) -> 0
A22: Teilnehmer 10 | J22: =IF(ISBLANK(I22),,IF(K22="ja","R "&(N22+O22)&" R",N22+O22)) -> 0 | N22: =IF(ISBLANK(I22),,Rechenhilfe!E$2-I22) -> 0 | O22: =IF(OR(H22>Rechenhilfe!D$2,AND(H22=Rechenhilfe!D$2,G22>Rechenhilfe!C$2)),-1,) -> 0

Sheet Wertung
A1: Startnummer | C1: FJLA in | H1: Gesamtpunkte | L1: Rang
A2: =Anmeldung!B5 -> 0 | C2: =Anmeldung!B7 -> 0
A4: Wertungsblatt für den Feuerwehrjugendbewerb
A6: Feuerwehrjugend der FF | D6: =PROPER(Anmeldung!B9) | J6: Bundesland | M6: =Anmeldung!H7 -> Kärnten
A8: FW-Pass- Nummer | B8: Familienname | F8: Vorname | J8: Besitzt FJLA * B S | L8: Geburtsdatum | O8: Alter | Q8: Reserve | R8: Teilnahme
L9: Tag | M9: Mon | N9: Jahr | Q9: ja/nein | R9: Einzelbewerb
A10: =IF(NOT(ISBLANK(Anmeldung!B13)),Anmeldung!B13,) -> 0 | B10: =UPPER(Anmeldung!C13) | F10: =PROPER(Anmeldung!D13) | J10: =Anmeldung!E13 -> 0 | K10: =Anmeldung!F13 -> 0 | L10: =Anmeldung!G13 -> 0 | M10: =Anmeldung!H13 -> 0 | N10: =Anmeldung!I13 -> 0 | O10: =IF(ISBLANK(Anmeldung!I13),,IF(Q10="ja","R "&(T10+U10)&" R",T10+U10)) -> 0 | Q10: =Anmeldung!K13 -> 0 | R10: =Anmeldung!L13 -> 0 | S10: =IF(Q10="ja",,O10) -> 0 | T10: =IF(ISBLANK(N10),,Rechenhilfe!E$2-N10) -> 2026 | U10: =IF(OR(M10>Rechenhilfe!D$2,AND(M10=Rechenhilfe!D$2,L10>Rechenhilfe!C$2)),-1,) -> 0 | V10: =COUNT(N10:N19) -> 10
A11: =IF(NOT(ISBLANK(Anmeldung!B14)),Anmeldung!B14,) -> 0 | B11: =UPPER(Anmeldung!C14) | F11: =PROPER(Anmeldung!D14) | J11: =Anmeldung!E14 -> 0 | K11: =Anmeldung!F14 -> 0 | L11: =Anmeldung!G14 -> 0 | M11: =Anmeldung!H14 -> 0 | N11: =Anmeldung!I14 -> 0 | O11: =IF(ISBLANK(Anmeldung!I14),,IF(Q11="ja","R "&(T11+U11)&" R",T11+U11)) -> 0 | Q11: =Anmeldung!K14 -> 0 | R11: =Anmeldung!L14 -> 0 | S11: =IF(Q11="ja",,O11) -> 0 | T11: =IF(ISBLANK(N11),,Rechenhilfe!E$2-N11) -> 2026 | U11: =IF(OR(M11>Rechenhilfe!D$2,AND(M11=Rechenhilfe!D$2,L11>Rechenhilfe!C$2)),-1,) -> 0
A12: =IF(NOT(ISBLANK(Anmeldung!B15)),Anmeldung!B15,) -> 0 | B12: =UPPER(Anmeldung!C15) | F12: =PROPER(Anmeldung!D15) | J12: =Anmeldung!E15 -> 0 | K12: =Anmeldung!F15 -> 0 | L12: =Anmeldung!G15 -> 0 | M12: =Anmeldung!H15 -> 0 | N12: =Anmeldung!I15 -> 0 | O12: =IF(ISBLANK(Anmeldung!I15),,IF(Q12="ja","R "&(T12+U12)&" R",T12+U12)) -> 0 | Q12: =Anmeldung!K15 -> 0 | R12: =Anmeldung!L15 -> 0 | S12: =IF(Q12="ja",,O12) -> 0 | T12: =IF(ISBLANK(N12),,Rechenhilfe!E$2-N12) -> 2026 | U12: =IF(OR(M12>Rechenhilfe!D$2,AND(M12=Rechenhilfe!D$2,L12>Rechenhilfe!C$2)),-1,) -> 0
A13: =IF(NOT(ISBLANK(Anmeldung!B16)),Anmeldung!B16,) -> 0 | B13: =UPPER(Anmeldung!C16) | F13: =PROPER(Anmeldung!D16) | J13: =Anmeldung!E16 -> 0 | K13: =Anmeldung!F16 -> 0 | L13: =Anmeldung!G16 -> 0 | M13: =Anmeldung!H16 -> 0 | N13: =Anmeldung!I16 -> 0 | O13: =IF(ISBLANK(Anmeldung!I16),,IF(Q13="ja","R "&(T13+U13)&" R",T13+U13)) -> 0 | Q13: =Anmeldung!K16 -> 0 | R13: =Anmeldung!L16 -> 0 | S13: =IF(Q13="ja",,O13) -> 0 | T13: =IF(ISBLANK(N13),,Rechenhilfe!E$2-N13) -> 2026 | U13: =IF(OR(M13>Rechenhilfe!D$2,AND(M13=Rechenhilfe!D$2,L13>Rechenhilfe!C$2)),-1,) -> 0
A14: =IF(NOT(ISBLANK(Anmeldung!B17)),Anmeldung!B17,) -> 0 | B14: =UPPER(Anmeldung!C17) | F14: =PROPER(Anmeldung!D17) | J14: =Anmeldung!E17 -> 0 | K14: =Anmeldung!F17 -> 0 | L14: =Anmeldung!G17 -> 0 | M14: =Anmeldung!H17 -> 0 | N14: =Anmeldung!I17 -> 0 | O14: =IF(ISBLANK(Anmeldung!I17),,IF(Q14="ja","R "&(T14+U14)&" R",T14+U14)) -> 0 | Q14: =Anmeldung!K17 -> 0 | R14: =Anmeldung!L17 -> 0 | S14: =IF(Q14="ja",,O14) -> 0 | T14: =IF(ISBLANK(N14),,Rechenhilfe!E$2-N14) -> 2026 | U14: =IF(OR(M14>Rechenhilfe!D$2,AND(M14=Rechenhilfe!D$2,L14>Rechenhilfe!C$2)),-1,) -> 0
A15: =IF(NOT(ISBLANK(Anmeldung!B18)),Anmeldung!B18,) -> 0 | B15: =UPPER(Anmeldung!C18) | F15: =PROPER(Anmeldung!D18) | J15: =Anmeldung!E18 -> 0 | K15: =Anmeldung!F18 -> 0 | L15: =Anmeldung!G18 -> 0 | M15: =Anmeldung!H18 -> 0 | N15: =Anmeldung!I18 -> 0 | O15: =IF(ISBLANK(Anmeldung!I18),,IF(Q15="ja","R "&(T15+U15)&" R",T15+U15)) -> 0 | Q15: =Anmeldung!K18 -> 0 | R15: =Anmeldung!L18 -> 0 | S15: =IF(Q15="ja",,O15) -> 0 | T15: =IF(ISBLANK(N15),,Rechenhilfe!E$2-N15) -> 2026 | U15: =IF(OR(M15>Rechenhilfe!D$2,AND(M15=Rechenhilfe!D$2,L15>Rechenhilfe!C$2)),-1,) -> 0
A16: =IF(NOT(ISBLANK(Anmeldung!B19)),Anmeldung!B19,) -> 0 | B16: =UPPER(Anmeldung!C19) | F16: =PROPER(Anmeldung!D19) | J16: =Anmeldung!E19 -> 0 | K16: =Anmeldung!F19 -> 0 | L16: =Anmeldung!G19 -> 0 | M16: =Anmeldung!H19 -> 0 | N16: =Anmeldung!I19 -> 0 | O16: =IF(ISBLANK(Anmeldung!I19),,IF(Q16="ja","R "&(T16+U16)&" R",T16+U16)) -> 0 | Q16: =Anmeldung!K19 -> 0 | R16: =Anmeldung!L19 -> 0 | S16: =IF(Q16="ja",,O16) -> 0 | T16: =IF(ISBLANK(N16),,Rechenhilfe!E$2-N16) -> 2026 | U16: =IF(OR(M16>Rechenhilfe!D$2,AND(M16=Rechenhilfe!D$2,L16>Rechenhilfe!C$2)),-1,) -> 0
A17: =IF(NOT(ISBLANK(Anmeldung!B20)),Anmeldung!B20,) -> 0 | B17: =UPPER(Anmeldung!C20) | F17: =PROPER(Anmeldung!D20) | J17: =Anmeldung!E20 -> 0 | K17: =Anmeldung!F20 -> 0 | L17: =Anmeldung!G20 -> 0 | M17: =Anmeldung!H20 -> 0 | N17: =Anmeldung!I20 -> 0 | O17: =IF(ISBLANK(Anmeldung!I20),,IF(Q17="ja","R "&(T17+U17)&" R",T17+U17)) -> 0 | Q17: =Anmeldung!K20 -> 0 | R17: =Anmeldung!L20 -> 0 | S17: =IF(Q17="ja",,O17) -> 0 | T17: =IF(ISBLANK(N17),,Rechenhilfe!E$2-N17) -> 2026 | U17: =IF(OR(M17>Rechenhilfe!D$2,AND(M17=Rechenhilfe!D$2,L17>Rechenhilfe!C$2)),-1,) -> 0
A18: =IF(NOT(ISBLANK(Anmeldung!B21)),Anmeldung!B21,) -> 0 | B18: =UPPER(Anmeldung!C21) | F18: =PROPER(Anmeldung!D21) | J18: =Anmeldung!E21 -> 0 | K18: =Anmeldung!F21 -> 0 | L18: =Anmeldung!G21 -> 0 | M18: =Anmeldung!H21 -> 0 | N18: =Anmeldung!I21 -> 0 | O18: =IF(ISBLANK(Anmeldung!I21),,IF(Q18="ja","R "&(T18+U18)&" R",T18+U18)) -> 0 | Q18: =Anmeldung!K21 -> 0 | R18: =Anmeldung!L21 -> 0 | S18: =IF(Q18="ja",,O18) -> 0 | T18: =IF(ISBLANK(N18),,Rechenhilfe!E$2-N18) -> 2026 | U18: =IF(OR(M18>Rechenhilfe!D$2,AND(M18=Rechenhilfe!D$2,L18>Rechenhilfe!C$2)),-1,) -> 0
A19: =IF(NOT(ISBLANK(Anmeldung!B22)),Anmeldung!B22,) -> 0 | B19: =UPPER(Anmeldung!C22) | F19: =PROPER(Anmeldung!D22) | J19: =Anmeldung!E22 -> 0 | K19: =Anmeldung!F22 -> 0 | L19: =Anmeldung!G22 -> 0 | M19: =Anmeldung!H22 -> 0 | N19: =Anmeldung!I22 -> 0 | O19: =IF(ISBLANK(Anmeldung!I22),,IF(Q19="ja","R "&(T19+U19)&" R",T19+U19)) -> 0 | Q19: =Anmeldung!K22 -> 0 | R19: =Anmeldung!L22 -> 0 | S19: =IF(Q19="ja",,O19) -> 0 | T19: =IF(ISBLANK(N19),,Rechenhilfe!E$2-N19) -> 2026 | U19: =IF(OR(M19>Rechenhilfe!D$2,AND(M19=Rechenhilfe!D$2,L19>Rechenhilfe!C$2)),-1,) -> 0
A20: * Zutreffendes ankreuzen | H20: Gesamtalter | O20: =IF(OR(COUNT(Anmeldung!I13:I22)=9,C2="Bronze"),SUM(S10:S19),"") | S20: =IF(Q20="ja",O20,) -> 0
A22: Bewertung: Hindernisübung | H22: Vorgabepunkte | O22: 1100
H23: HB | I23: B1 | J23: B2 | K23: B3 | L23: B4 | M23: B5 | N23: Punkte
A24: Fehler am Hindernis | E24: je Fall | G24: 10 | O24: =N24 -> 0
A25: Verdrehung des Schlauches | E25: je Fall | G25: 5 | O25: =N25 -> 0
A26: Offenes Kupplungspaar | E26: je Fall | G26: 20 | O26: =N26 -> 0
A27: Falsches Verlegen der C-Löschleitung | E27: je Fall | G27: 10 | O27: =N27 -> 0
A28: Liegengebliebens oder verlorenes Gerät | E28: je Fall | G28: 5 | O28: =N28 -> 0
A29: Falsch am Gerätegestell abgelegtes Gerät | E29: je Fall | G29: 10 | O29: =N29 -> 0
A30: Falsch angefertigter Knoten | E30: je Fall | G30: 10 | O30: =N30 -> 0
A31: Falsches Arbeiten | E31: je Fall | G31: 10 | O31: =N31 -> 0
A32: Sprechen während der Arbeit | E32: je Fall | G32: 10 | O32: =N32 -> 0
A33: Zeit in Sekunden : | O33: =E33 -> 0
H34: Punkte - Hindernisübung
A36: Hauptbewerter | D36: Bewerter 1
A38: Bewertung: Staffellauf
A39: Gesamtalter: | D39: =O20 | F39: Soll-Zeit in Sekunden : | M39: =IF(D39>0,IF(D39<81,"",IF(AND(D39>=90,D39<=112),"80",IF(AND(D39>=113,D39<=121),"77",IF(AND(D39>=122,D39<=130),"74",IF(AND(D39>=131,D39<=139),"71",IF(AND(D39>=140,D39<=144),"68","")))))),"")
A40: Bewertung: | F40: Ist-Zeit in Sekunden :
A41: Offenes Kupplungspaar | F41: Je Fall 10 Punkte
A42: Nicht ordnungsgemäß überwundenes Hindernis oder gelöste Aufgabe | F42: Je Fall 10 Punkte
A43: Stafette nicht über Ziellinie gebracht | F43: 20 Punkte
H44: Punkte - Staffellauf
H45: Gesamtpunkte
A46: Hauptbewerter | D46: Bewerter 1

Sheet Rechenhilfe
C1: Tag | D1: Mon | E1: Jahr
B2: Stichtag | C2: 27 | D2: 6 | E2: 2026
A4: FLJA in | B4: Bundesland | C4: ja / leer | D4: X | E4: Ja / nein | F4: Bezirk
A5: Bronze | B5: Kärnten | C5: 0 | D5: 0 | E5: ja | F5: Hermagor
A6: Silber | B6: Tirol | C6: ja | D6: X | E6: nein | F6: Spittal
B7: Steiermark | F7: Villach-Stadt
B8: Salzburg | F8: Villach-Land
B9: Niederösterreich | F9: Klagenfurt Stadt
B10: Oberösterriech | F10: Klagenfurt Land
B11: Burgenland | F11: Feldkirchen
B12: Vorarlberg | F12: St. Veit/Glan
B13: Wien | F13: Völkermarkt
F14: Wolfsberg
F16: Tamsweg
F17: Neusiedl am See
F18: St. Johann
